View In:
ArcGIS JavaScript
ArcGIS Online Map Viewer
ArcGIS Earth
ArcGIS Pro
Service Description: This map service presents spatial information about the Coastal Change Analysis Program (C-CAP) land cover data in the Web Mercator projection. The service was developed as part of the National Oceanic and Atmospheric Administration (NOAA) Office for Coastal Management’s C-CAP Land Cover Atlas. NOAA provides the information “as-is” and shall incur no responsibility or liability as to the completeness or accuracy of this information. NOAA assumes no responsibility arising from the use of this information. For additional information, please contact the NOAA Office for Coastal Management (coastal.info@noaa.gov). These spatial data layers represent 30-meter spatial resolution C-CAP thematic land cover rasters for the 2006 time period. The Office for Coastal Management will make every effort to provide continual access to this service but it may need to be taken down during routine IT maintenance or in case of an emergency. If you plan to ingest this service into your own application and would like to be informed about planned and unplanned service outages or changes to existing services, please register for our Map Services Notification Group (http://www.coast.noaa.gov/digitalcoast/publications/subscribe).
Map Name: LandCover_ModRes_2021
Legend
All Layers and Tables
Dynamic Legend
Dynamic All Layers
Layers:
Description: This map service presents spatial information about the Coastal Change Analysis Program (C-CAP) land cover data in the Web Mercator projection. The service was developed as part of the National Oceanic and Atmospheric Administration (NOAA) Office for Coastal Management’s C-CAP Land Cover Atlas. NOAA provides the information “as-is” and shall incur no responsibility or liability as to the completeness or accuracy of this information. NOAA assumes no responsibility arising from the use of this information. For additional information, please contact the NOAA Office for Coastal Management (coastal.info@noaa.gov). These spatial data layers represent 30-meter spatial resolution C-CAP thematic land cover rasters for the 2006 time period. The Office for Coastal Management will make every effort to provide continual access to this service but it may need to be taken down during routine IT maintenance or in case of an emergency. If you plan to ingest this service into your own application and would like to be informed about planned and unplanned service outages or changes to existing services, please register for our Map Services Notification Group (http://www.coast.noaa.gov/digitalcoast/publications/subscribe).
Service Item Id: afcac4cc93b64f899a0a7e8523f83a81
Copyright Text: NOAA Office for Coastal Management
Spatial Reference:
102100
(3857)
LatestVCSWkid(0)
Single Fused Map Cache: true
Tile Info:
- Height: 256.0
- Width: 256.0
- DPI: 96.0
-
Levels of Detail: 24
-
Level ID: 0
[ Start Tile, End Tile ]
- Resolution: 156543.03392800014
- Scale: 5.91657527591555E8
-
Level ID: 1
[ Start Tile, End Tile ]
- Resolution: 78271.51696399994
- Scale: 2.95828763795777E8
-
Level ID: 2
[ Start Tile, End Tile ]
- Resolution: 39135.75848200009
- Scale: 1.47914381897889E8
-
Level ID: 3
[ Start Tile, End Tile ]
- Resolution: 19567.87924099992
- Scale: 7.3957190948944E7
-
Level ID: 4
[ Start Tile, End Tile ]
- Resolution: 9783.93962049996
- Scale: 3.6978595474472E7
-
Level ID: 5
[ Start Tile, End Tile ]
- Resolution: 4891.96981024998
- Scale: 1.8489297737236E7
- Format: PNG8
- Compression Quality: 0.0
- Origin: X: -2.0037508342787E7
Y: 2.0037508342787E7
- Spatial Reference: 102100
(3857)
LatestVCSWkid(0)
Storage Info:
- Storage Format: esriMapCacheStorageModeCompactV2
- Packet Size: 128
Initial Extent:
XMin: -2.0786727680845E7
YMin: -9067838.36089321
XMax: 1.8005854860945E7
YMax: 1.3725351556393212E7
Spatial Reference: 102100
(3857)
LatestVCSWkid(0)
Full Extent:
XMin: -1.90234284744E7
YMin: -1622439.957800001
XMax: 1.62425556545E7
YMax: 6279953.153300002
Spatial Reference: 102100
(3857)
LatestVCSWkid(0)
Units: esriMeters
Supported Image Format Types: PNG32,PNG24,PNG,JPG,DIB,TIFF,EMF,PS,PDF,GIF,SVG,SVGZ,BMP
Document Info:
Title: CatalogWorkSpace.aprx
Author:
Comments: This map service presents spatial information about the Coastal Change Analysis Program (C-CAP) land cover data in the Web Mercator projection. The service was developed as part of the National Oceanic and Atmospheric Administration (NOAA) Office for Coastal Management’s C-CAP Land Cover Atlas. NOAA provides the information “as-is” and shall incur no responsibility or liability as to the completeness or accuracy of this information. NOAA assumes no responsibility arising from the use of this information. For additional information, please contact the NOAA Office for Coastal Management (coastal.info@noaa.gov). These spatial data layers represent 30-meter spatial resolution C-CAP thematic land cover rasters for the 2006 time period. The Office for Coastal Management will make every effort to provide continual access to this service but it may need to be taken down during routine IT maintenance or in case of an emergency. If you plan to ingest this service into your own application and would like to be informed about planned and unplanned service outages or changes to existing services, please register for our Map Services Notification Group (http://www.coast.noaa.gov/digitalcoast/publications/subscribe).
Subject: C-CAP Land Cover Atlas Map Service
Category:
Keywords: NOAA,C-CAP,land cover
AntialiasingMode: Fast
TextAntialiasingMode: Force
Supports Dynamic Layers: true
MaxRecordCount: 2000
MaxSelectionCount: 2000
MaxImageHeight: 4096
MaxImageWidth: 4096
Supported Query Formats: JSON, geoJSON, PBF
Supports Query Data Elements: true
Min Scale: 5.91657527591555E8
Max Scale: 36111.909643
Supports Datum Transformation: true
Child Resources:
Info
Dynamic Layer
Supported Operations:
Export Map
Identify
QueryLegends
QueryDomains
Find
Return Updates