View In:
ArcGIS JavaScript
ArcGIS Online Map Viewer
ArcGIS Earth
Service Description: Landcover/CCAP_High_Resolution_Landcover
Name: Landcover/CCAP_High_Resolution_Landcover
Description:
Single Fused Map Cache: false
Extent:
XMin: -1.9045978614E7
YMin: -1639318.5397999864
XMax: 1.6260002385999948E7
YMax: 6162380.4602000015
Spatial Reference: 102100
(3857)
LatestVCSWkid(0)
Initial Extent:
XMin: -1.9045978614E7
YMin: -1639318.5397999864
XMax: 1.6260002385999948E7
YMax: 6162380.4602000015
Spatial Reference: 102100
(3857)
LatestVCSWkid(0)
Full Extent:
XMin: -1.9045978614E7
YMin: -1639318.5397999864
XMax: 1.6260002385999948E7
YMax: 6162380.4602000015
Spatial Reference: 102100
(3857)
LatestVCSWkid(0)
Pixel Size X: 0.9999999999999986
Pixel Size Y: 0.9999999999999984
Band Count: 1
Pixel Type: U8
RasterFunction Infos: {"rasterFunctionInfos": [
{
"name": "CCAP_High_Res_ClassNames_Display_1",
"description": "High resoltuion CCAP labeled by class names and symbolized with color scheme.",
"help": ""
},
{
"name": "None",
"description": "",
"help": ""
}
]}
Mensuration Capabilities: None
Inspection Capabilities:
Has Histograms: true
Has Colormap: false
Has Multi Dimensions : false
Rendering Rule:
Min Scale: 0
Max Scale: 0
Copyright Text:
Service Data Type: esriImageServiceDataTypeThematic
Min Values: 0
Max Values: 21
Mean Values: 8.062566277836694
Standard Deviation Values: 7.134089433727037
Object ID Field: OBJECTID
Fields:
-
OBJECTID
(
type: esriFieldTypeOID, alias: OBJECTID
)
-
Shape
(
type: esriFieldTypeGeometry, alias: Shape
)
-
Name
(
type: esriFieldTypeString, alias: Name, length: 200
)
-
Category
(
type: esriFieldTypeInteger, alias: Category
,
Coded Values:
[0: Unknown]
,
[1: Primary]
,
[2: Overview]
, ...6 more...
)
-
Tag
(
type: esriFieldTypeString, alias: Tag, length: 100
)
-
CenterX
(
type: esriFieldTypeDouble, alias: CenterX
)
-
CenterY
(
type: esriFieldTypeDouble, alias: CenterY
)
-
Mission
(
type: esriFieldTypeInteger, alias: Mission
)
-
FileSize
(
type: esriFieldTypeDouble, alias: FileSize
)
-
Year
(
type: esriFieldTypeInteger, alias: Year
)
-
Project
(
type: esriFieldTypeString, alias: Project, length: 150
)
-
Metalink
(
type: esriFieldTypeString, alias: Metalink, length: 4000
)
-
Sensor
(
type: esriFieldTypeString, alias: Sensor, length: 50
)
Default Mosaic Method: ByAttribute
Allowed Mosaic Methods: ByAttribute
SortField: Year
SortValue: 3000
Mosaic Operator: Max
Default Compression Quality: 75
Default Resampling Method: Nearest
Max Record Count: 1000
Max Image Height: 4100
Max Image Width: 15000
Max Download Image Count: 20
Max Mosaic Image Count: 20
Allow Raster Function: true
Allow Copy: true
Allow Analysis: true
Allow Compute TiePoints: false
Supports Statistics: true
Supports Advanced Queries: true
Use StandardizedQueries: true
Raster Type Infos:
Name: Raster Dataset
Description: Supports all ArcGIS Raster Datasets
Help:
Has Raster Attribute Table: false
Edit Fields Info: null
Ownership Based AccessControl For Rasters: null
Child Resources:
Info
Histograms
Statistics
Key Properties
Legend
Raster Function Infos
Supported Operations:
Export Image
Query
Identify
Compute Histograms
Compute Statistics Histograms
Get Samples
Compute Class Statistics
Query GPS Info
Find Images
Image to Map
Map to Image
Measure from Image
Image to Map Multiray
Query Boundary
Compute Pixel Location
Compute Angles
Validate
Project